{"text_format":"1","workbook":"xlsx","n_sheets":3,"sheets":["Sheet1","ナーシング","訪問看護"],"not_rendered":{"charts":0,"images":0,"macros":1,"external_links":0,"defined_names":0,"comments":1,"pivot_tables":0},"unopened":[],"bounds":{"document_bytes":16777216,"sheet_cells":100000,"rows_first":2000,"rows_last":500,"rows_between":2000,"halvings":0,"cell_chars":16384,"cell_head_chars":4096},"cells_cut":0,"cells_raw":0,"read":"whole","date_system":"1900"}

{"sheet":"Sheet1","index":0,"n_rows":57,"n_cols":8,"rows_kept":57,"cut":false,"hidden":false,"merged":[[47,7,47,11],[48,7,48,11],[49,7,49,11],[53,2,53,3],[56,2,56,3],[51,2,51,4],[48,2,48,4],[49,2,49,4],[46,2,46,3],[5,1,5,3],[6,2,6,3],[45,7,45,11],[46,7,46,11],[0,0,0,11],[7,6,7,11],[42,7,42,11],[43,7,43,11],[44,7,44,11],[29,1,40,1],[21,5,21,8],[23,2,23,3],[27,1,27,2],[34,2,34,4],[1,0,2,1],[7,2,7,3],[8,2,8,3],[9,2,9,3],[10,2,10,3],[12,1,12,2],[30,7,30,11],[31,7,31,11],[32,7,32,11],[33,2,33,11],[39,7,39,11],[36,2,36,4],[36,7,36,11],[38,2,38,4],[39,2,39,4],[37,2,37,11],[38,7,38,11],[1,2,1,3],[2,2,2,3],[30,2,30,4],[31,2,31,4],[32,2,32,4],[42,1,51,1],[56,5,56,11],[35,2,35,4],[34,7,34,11],[35,7,35,11],[40,7,40,11],[50,2,50,4],[40,2,40,4],[47,2,47,3],[44,2,44,4],[45,2,45,4],[42,2,42,4],[43,2,43,4],[56,0,56,1],[50,7,50,11],[51,7,51,11]]}
["ナーシングホームたまち、訪問看護ステーションたまちの両方を使った場合の目安"]
["どちらかを選ぶ",null,"認知症以外の方は介護度を選択",null,null,"←対象外の場合は空白を選択"]
[null,null,"認知症の方は介護度を選択",null,null,"←対象外の場合は空白を選択"]
[]
[1,"ナーシングホームたまち利用料"]
[null,"①ナーシングホーム利用料",null,null,"通常","認知症の方"]
[null,null,"基本サービス",null,{"$f":"IFERROR(VLOOKUP($E$2,ナーシング!$A$8:$E$12,2,FALSE),\"0\")","v":"0"},{"$f":"IFERROR(VLOOKUP($E$3,ナーシング!$A$15:$E$19,2,FALSE),\"0\")","v":"0"}]
[null,null,"加算目安",null,{"$f":"IFERROR(VLOOKUP($E$2,ナーシング!$A$8:$E$12,3,FALSE),\"0\")","v":"0"},{"$f":"IFERROR(VLOOKUP($E$3,ナーシング!$A$15:$E$19,3,FALSE),\"0\")","v":"0"},"サービス提供体制強化加算+訪問体制強化加算+看護体制強化加算Ⅰ+総合マネジメント体制強化加算"]
[null,null,"処遇改善加算",null,{"$f":"IFERROR(VLOOKUP($E$2,ナーシング!$A$8:$E$12,4,FALSE),\"0\")","v":"0"},{"$f":"IFERROR(VLOOKUP($E$3,ナーシング!$A$15:$E$19,4,FALSE),\"0\")","v":"0"}]
[null,null,"特定処遇改善",null,{"$f":"IFERROR(VLOOKUP($E$2,ナーシング!$A$8:$E$12,5,FALSE),\"0\")","v":"0"},{"$f":"IFERROR(VLOOKUP($E$3,ナーシング!$A$15:$E$19,5,FALSE),\"0\")","v":"0"}]
[null,null,"合計",null,{"$f":"SUM(E7:E10)","v":0},{"$f":"SUM(F7:F10)","v":0}]
[]
[null,"②食事代",null,"食数","金額"]
[null,null,"朝食",null,{"$f":"D14*ナーシング!A21","v":0},"予想される食数を入力"]
[null,null,"昼食",null,{"$f":"D15*ナーシング!B21","v":0},"予想される食数を入力"]
[null,null,"夕食",null,{"$f":"D16*ナーシング!C21","v":0},"予想される食数を入力"]
[null,null,"おやつ",null,{"$f":"D17*ナーシング!D21","v":0},"予想される食数を入力"]
[null,null,"食事代合計",null,{"$f":"SUM(E14:E17)","v":0}]
[]
[null,"③宿泊費",null,null,"金額"]
[null,null,"宿泊費　宿泊月を選択→"]
[null,null,"宿泊数　泊数を入力→",null,{"$f":"IFERROR((VLOOKUP(D21,ナーシング!A25:B36,2,FALSE)*D22),\"0\")","v":"0"},"※その他、電化製品によっては持ち込み料あり"]
[]
[null,null,"ナーシングホーム利用料（目安）",null,{"$f":"E11+F11+E18+E22","v":0},"（①+②+③）"]
[]
[]
[2,"訪問看護ステーションたまち利用料　※医療保険の方のみ"]
[null,"負担割合を選択→",null,"1割負担",null,null,"の枠に訪問回数を入力"]
[]
[null,"訪問看護基本料金","①在宅酸素、自己導尿、人工肛門、人工膀胱増設、真皮を超える褥瘡。在宅患者訪問点家貴駐車管理指導料を算定している方（①②③のどれか）"]
[null,null,"1回目　※月初めの1回目（正看護師）",null,null,null,{"$f":"IFERROR((VLOOKUP(D28,訪問看護!A4:B6,2,FALSE)*F31),\"\")","v":0},"基本料+機能強化型療養管理費Ⅰ+24時間対応加算+情報提供療養費Ⅰ+特別管理加算Ⅰ"]
[null,null,"週3回までご利用の方　2回目以降（正看護師）",null,null,null,{"$f":"IFERROR((VLOOKUP(D28,訪問看護!A16:B18,2,FALSE)*F32),\"\")","v":0},"基本料金+管理療養費"]
[null,null,"週4回までご利用の方　2回目以降（正看護師）",null,null,null,{"$f":"IFERROR((VLOOKUP(D28,訪問看護!A20:B22,2,FALSE)*F33),\"\")","v":0},"基本料金+管理療養費"]
[]
[null,null,"1回目　※月初めの1回目（正看護師）",null,null,null,{"$f":"IFERROR((VLOOKUP(D28,訪問看護!A8:B10,2,FALSE)*F35),\"\")","v":0},"基本料+機能強化型療養管理費Ⅰ+24時間対応加算+情報提供療養費Ⅰ+特別管理加算Ⅰ"]
[null,null,"週3回までご利用の方　2回目以降（正看護師）",null,null,null,{"$f":"IFERROR((VLOOKUP(D28,訪問看護!A16:B18,2,FALSE)*F36),\"\")","v":0},"基本料金+管理療養費"]
[null,null,"週4回までご利用の方　2回目以降（正看護師）",null,null,null,{"$f":"IFERROR((VLOOKUP(D28,訪問看護!A20:B22,2,FALSE)*F37),\"\")","v":0},"基本料金+管理療養費"]
[]
[null,null,"1回目　※月初めの1回目（正看護師）",null,null,null,{"$f":"IFERROR((VLOOKUP(D28,訪問看護!A12:B14,2,FALSE)*F39),\"\")","v":0},"基本料+機能強化型療養管理費Ⅰ+24時間対応加算+情報提供療養費Ⅰ"]
[null,null,"週3回までご利用の方　2回目以降（正看護師）",null,null,null,{"$f":"IFERROR((VLOOKUP(D28,訪問看護!A16:B18,2,FALSE)*F40),\"\")","v":0},"基本料金+管理療養費"]
[null,null,"週4回までご利用の方　2回目以降（正看護師）",null,null,null,{"$f":"IFERROR((VLOOKUP(D28,訪問看護!A20:B22,2,FALSE)*F41),\"\")","v":0},"基本料金+管理療養費"]
[]
[null,"訪問看護加算料金","緊急訪問看護加算（1日1回につき）",null,null,null,{"$f":"IFERROR((VLOOKUP(D28,訪問看護!A25:B27,2,FALSE)*F43),\"\")","v":0},"利用者様（ご家族様）より緊急の求めに応じ主治医が訪問看護事業所に対して行った時事を受けて計画外の訪問を行った場合。"]
[null,null,"早朝・夜間加算（午前6時～午前8時、午後6時～午後10時）",null,null,null,{"$f":"IFERROR((VLOOKUP(D28,訪問看護!A29:B31,2,FALSE)*F44),\"\")","v":0},"営業時間外の訪問（基本報酬に25％加算。1日1回まで）"]
[null,null,"深夜加算（午後10時～午前6時）",null,null,null,{"$f":"IFERROR((VLOOKUP(D28,訪問看護!A33:B35,2,FALSE)*F45),\"\")","v":0},"営業時間外の訪問（基本報酬に50％加算。1日1回まで）"]
[null,null,"長時間訪問看護加算",null,null,null,{"$f":"IFERROR((VLOOKUP(D28,訪問看護!A37:B39,2,FALSE)*F46),\"\")","v":0}]
[null,null,"難病等複数回数訪問加算",null,"2回目",null,{"$f":"IFERROR((VLOOKUP(D28,訪問看護!A41:B43,2,FALSE)*F47),\"\")","v":0}]
[null,null,"（難病・特別指示書発行の方のみ）",null,"3回目",null,{"$f":"IFERROR((VLOOKUP(D28,訪問看護!A45:B47,2,FALSE)*F48),\"\")","v":0}]
[null,null,"退院時共同指導加算",null,null,null,{"$f":"IFERROR((VLOOKUP(D28,訪問看護!A49:B51,2,FALSE)*F49),\"\")","v":0}]
[null,null,"退院時支援指導加算",null,null,null,{"$f":"IFERROR((VLOOKUP(D28,訪問看護!A53:B55,2,FALSE)*F50),\"\")","v":0}]
[null,null,"在宅患者緊急時等カンファレンス加算（月2回まで）",null,null,null,{"$f":"IFERROR((VLOOKUP(D28,訪問看護!A57:B59,2,FALSE)*F51),\"\")","v":0}]
[null,null,"ターミナルケア療養費",null,null,null,{"$f":"IFERROR((VLOOKUP(D28,訪問看護!A61:B63,2,FALSE)*F52),\"\")","v":0}]
[]
[null,null,"訪問看護ステーションたまち利用料（目安）",null,{"$f":"IFERROR((G31+G32+G33+G35+G36+G37+G39+G40+G41+G43+G44+G45+G46+G47+G48+G49+G50+G51+G52),\"\")","v":0}]
[]
[]
[null,null,"総利用料（目安）　1+2",null,{"$f":"IFERROR((E24+E54),\"\")","v":0},"　この金額はあくまで目安です。状況や条件によって変わることがあります。"]

{"sheet":"ナーシング","index":1,"n_rows":36,"n_cols":5,"rows_kept":36,"cut":false,"hidden":false,"merged":[]}
["介護度1","〇"]
["介護度2"]
["介護度3"]
["介護度4"]
["介護度5"]
[]
[null,"基本料金","加算目安","処遇改善加算","特定処遇改善"]
["介護度1",11476,2640,1440,212]
["介護度2",16427,2640,1945,286]
["介護度3",23467,2640,2663,392]
["介護度4",25815,2640,2902,427]
["介護度5",28379,2640,3164,465]
[]
[null,"基本料金","加算目安","処遇改善加算","特定処遇改善"]
["介護度1",11476,3440,1521,224]
["介護度2",16427,3440,2026,298]
["介護度3",23467,3440,2745,404]
["介護度4",25815,3440,2984,439]
["介護度5",28379,3440,3246,477]
[]
[400,500,500,100]
[]
["宿泊費"]
[]
["1月",1500]
["2月",1500]
["3月",1500]
["4月",1500]
["5月",1300]
["6月",1300]
["7月",1500]
["8月",1500]
["9月",1500]
["10月",1300]
["11月",1500]
["12月",1500]

{"sheet":"訪問看護","index":2,"n_rows":63,"n_cols":3,"rows_kept":63,"cut":false,"hidden":false,"merged":[]}
["1割負担","2割負担","3割負担"]
[]
["訪問基本料①","月初め2"]
["1割負担",3100]
["2割負担",6200]
["3割負担",9290]
["訪問基本料②","月初め1"]
["1割負担",2850]
["2割負担",5450]
["3割負担",8540]
["訪問基本料③","月初め"]
["1割負担",2600]
["2割負担",5200]
["3割負担",7790]
["2回目以降","週3日目まで"]
["1割負担",860]
["2割負担",1710]
["3割負担",2570]
["2回目以降","週4日目まで"]
["1割負担",960]
["2割負担",1910]
["3割負担",2870]
[]
["緊急訪問看護加算"]
["1割負担",265]
["2割負担",530]
["3割負担",795]
["早朝・夜間加算（早朝午前6時～午前8時、夜間午後6時～午後10時）"]
["1割負担",210]
["2割負担",420]
["3割負担",630]
["深夜加算（深夜22：00～6：00）"]
["1割負担",420]
["2割負担",840]
["3割負担",1260]
["長時間訪問看護加算"]
["1割負担",520]
["2割負担",1040]
["3割負担",1560]
["難病等複数回数訪問加算（2回目/日）"]
["1割負担",450]
["2割負担",900]
["3割負担",1350]
["難病等複数回数訪問加算（3回目/日）"]
["1割負担",800]
["2割負担",1600]
["3割負担",2400]
["退院時共同指導加算"]
["1割負担",800]
["2割負担",1600]
["3割負担",2400]
["退院時支援指導加算"]
["1割負担",600]
["2割負担",1200]
["3割負担",1800]
["在宅患者緊急時等カンファレンス加算（月2回まで）"]
["1割負担",200]
["2割負担",400]
["3割負担",600]
["ターミナルケア療養費"]
["1割負担",2500]
["2割負担",5000]
["3割負担",7500]